BEGIN:VCALENDAR
VERSION:2.0
PRODID:-//Conservatorio di Rovigo Francesco Venezze - ECPv6.15.20//NONSGML v1.0//EN
CALSCALE:GREGORIAN
METHOD:PUBLISH
X-ORIGINAL-URL:https://conservatoriorovigo.it
X-WR-CALDESC:Eventi per Conservatorio di Rovigo Francesco Venezze
REFRESH-INTERVAL;VALUE=DURATION:PT1H
X-Robots-Tag:noindex
X-PUBLISHED-TTL:PT1H
BEGIN:VTIMEZONE
TZID:Europe/Paris
BEGIN:DAYLIGHT
TZOFFSETFROM:+0100
TZOFFSETTO:+0200
TZNAME:CEST
DTSTART:20240331T010000
END:DAYLIGHT
BEGIN:STANDARD
TZOFFSETFROM:+0200
TZOFFSETTO:+0100
TZNAME:CET
DTSTART:20241027T010000
END:STANDARD
BEGIN:DAYLIGHT
TZOFFSETFROM:+0100
TZOFFSETTO:+0200
TZNAME:CEST
DTSTART:20250330T010000
END:DAYLIGHT
BEGIN:STANDARD
TZOFFSETFROM:+0200
TZOFFSETTO:+0100
TZNAME:CET
DTSTART:20251026T010000
END:STANDARD
BEGIN:DAYLIGHT
TZOFFSETFROM:+0100
TZOFFSETTO:+0200
TZNAME:CEST
DTSTART:20260329T010000
END:DAYLIGHT
BEGIN:STANDARD
TZOFFSETFROM:+0200
TZOFFSETTO:+0100
TZNAME:CET
DTSTART:20261025T010000
END:STANDARD
END:VTIMEZONE
BEGIN:VEVENT
DTSTART;TZID=Europe/Paris:20250505T173000
DTEND;TZID=Europe/Paris:20250505T190000
DTSTAMP:20260418T061650
CREATED:20250725T091052Z
LAST-MODIFIED:20250725T091052Z
UID:10000042-1746466200-1746471600@conservatoriorovigo.it
SUMMARY:𝐑𝐎 𝐏𝐄𝐑𝐂𝐔𝐒𝐒𝐈𝐎𝐍 𝐄𝐍𝐒𝐄𝐌𝐁𝐋𝐄 𝐎𝐑𝐂𝐇𝐄𝐒𝐓𝐑𝐀 - Maggio Rodigino 2025
DESCRIPTION:[vc_row][vc_column][vc_empty_space woodmart_hide_large=”0″ woodmart_hide_medium=”0″ woodmart_hide_small=”0″][vc_separator color=”custom” css=”” accent_color=”#790101″ wd_hide_on_desktop=”no” wd_hide_on_tablet=”no” wd_hide_on_mobile=”no”][/vc_column][/vc_row][vc_row][vc_column width=”1/2″]		\n			LUNEDÌ 5 MAGGIO\nore 17:30\nAuditorium “Marco Tamburini” in Via Pighin\, Rovigo \nCon organico composto da studenti di percussioni delle scuole ad indirizzo musicale e dei Conservatori della provincia di Rovigo \n🎟️INGRESSO GRATUITO senza prenotazione fino ad esaurimento posti \nA cura del Dipartimento Percussioni – Docente Cinzia Honnorat \n		\n		[/vc_column][vc_column width=”1/2″][vc_empty_space woodmart_hide_large=”0″ woodmart_hide_medium=”0″ woodmart_hide_small=”0″]			 					\n							\n			\n			\n							\n					\n		[/vc_column][/vc_row][vc_row][vc_column][vc_empty_space woodmart_hide_large=”0″ woodmart_hide_medium=”0″ woodmart_hide_small=”0″][vc_separator color=”custom” css=”” accent_color=”#790101″ wd_hide_on_desktop=”no” wd_hide_on_tablet=”no” wd_hide_on_mobile=”no”][vc_empty_space woodmart_hide_large=”0″ woodmart_hide_medium=”0″ woodmart_hide_small=”0″][/vc_column][/vc_row]
URL:https://conservatoriorovigo.it/evento/%f0%9d%90%91%f0%9d%90%8e-%f0%9d%90%8f%f0%9d%90%84%f0%9d%90%91%f0%9d%90%82%f0%9d%90%94%f0%9d%90%92%f0%9d%90%92%f0%9d%90%88%f0%9d%90%8e%f0%9d%90%8d-%f0%9d%90%84%f0%9d%90%8d%f0%9d%90%92%f0%9d%90%84/
LOCATION:Auditorium “Marco Tamburini”\, Via Pighin\, Rovigo\, Veneto\, 45100\, Italy
CATEGORIES:Concerti
ATTACH;FMTTYPE=image/png:https://conservatoriorovigo.it/wp-content/uploads/2025/04/03_Post-IG-RO-Percussion-scaled.png
END:VEVENT
END:VCALENDAR