BEGIN:VCALENDAR
VERSION:2.0
PRODID:-//Conservatorio di Rovigo Francesco Venezze - ECPv6.15.20//NONSGML v1.0//EN
CALSCALE:GREGORIAN
METHOD:PUBLISH
X-WR-CALNAME:Conservatorio di Rovigo Francesco Venezze
X-ORIGINAL-URL:https://conservatoriorovigo.it
X-WR-CALDESC:Eventi per Conservatorio di Rovigo Francesco Venezze
REFRESH-INTERVAL;VALUE=DURATION:PT1H
X-Robots-Tag:noindex
X-PUBLISHED-TTL:PT1H
BEGIN:VTIMEZONE
TZID:Europe/Paris
BEGIN:DAYLIGHT
TZOFFSETFROM:+0100
TZOFFSETTO:+0200
TZNAME:CEST
DTSTART:20240331T010000
END:DAYLIGHT
BEGIN:STANDARD
TZOFFSETFROM:+0200
TZOFFSETTO:+0100
TZNAME:CET
DTSTART:20241027T010000
END:STANDARD
BEGIN:DAYLIGHT
TZOFFSETFROM:+0100
TZOFFSETTO:+0200
TZNAME:CEST
DTSTART:20250330T010000
END:DAYLIGHT
BEGIN:STANDARD
TZOFFSETFROM:+0200
TZOFFSETTO:+0100
TZNAME:CET
DTSTART:20251026T010000
END:STANDARD
BEGIN:DAYLIGHT
TZOFFSETFROM:+0100
TZOFFSETTO:+0200
TZNAME:CEST
DTSTART:20260329T010000
END:DAYLIGHT
BEGIN:STANDARD
TZOFFSETFROM:+0200
TZOFFSETTO:+0100
TZNAME:CET
DTSTART:20261025T010000
END:STANDARD
END:VTIMEZONE
BEGIN:VEVENT
DTSTART;TZID=Europe/Paris:20251126T173000
DTEND;TZID=Europe/Paris:20251126T190000
DTSTAMP:20260417T072416
CREATED:20251121T133439Z
LAST-MODIFIED:20251121T140754Z
UID:10000129-1764178200-1764183600@conservatoriorovigo.it
SUMMARY:Tradizionale concerto di San Bellino - "Il pianoforte"
DESCRIPTION:📍26 novembre ore 17:30 – Tempio della Rotonda\nTradizionale concerto di San Bellino – “Il pianoforte”\ncon gli allievi del Dipartimento di Pianoforte del Conservatorio “Venezze” di Rovigo\nMatteo Carnuccio\nAndrea Simone De Nicolò\nAndrea Mariani\nNicola Elias Rigato\nAbbayhen Salterini\nLuna Salvan\nLorenzo Scanniello\nMilana Zinatullina \nMusiche di Carl Czerny\, Frédéric Chopin\, Pëtr Il’ič Čajkovskij\, Felix Mendelssohn Bartholdy\, German Galynin\, Maurice Ravel\, Franz Liszt\, Sergei Rachmaninov\, Leoš Janáček\, Nicola Elias Rigato\, Johannes Brahms.
URL:https://conservatoriorovigo.it/evento/tradizionale-concerto-di-san-bellino-il-pianoforte/
LOCATION:Tempio della Beata Vergine del Soccorso “La Rotonda”\, Piazza XX Settembre 37\, Rovigo\, Veneto\, 45100\, Italy
CATEGORIES:Concerti
ATTACH;FMTTYPE=image/png:https://conservatoriorovigo.it/wp-content/uploads/2025/11/bellino.png
END:VEVENT
BEGIN:VEVENT
DTSTART;TZID=Europe/Paris:20251127T173000
DTEND;TZID=Europe/Paris:20251127T180000
DTSTAMP:20260417T072416
CREATED:20251121T140004Z
LAST-MODIFIED:20251121T141029Z
UID:10000130-1764264600-1764266400@conservatoriorovigo.it
SUMMARY:“Poetica e meccanismo del pianoforte di G. Golinelli” – Presentazione – Concerto di Francesco Carletti\, pianoforte
DESCRIPTION:📍27 novembre ore 17:30 – Auditorium Tamburini\n“Poetica e meccanismo del pianoforte di G. Golinelli” – Presentazione – Concerto di Francesco Carletti\, pianoforte
URL:https://conservatoriorovigo.it/evento/poetica-e-meccanismo-del-pianoforte-di-g-golinelli-presentazione-concerto-di-francesco-carletti-pianoforte/
LOCATION:Auditorium “Marco Tamburini”\, Via Pighin\, Rovigo\, Veneto\, 45100\, Italy
CATEGORIES:Concerti
ATTACH;FMTTYPE=image/png:https://conservatoriorovigo.it/wp-content/uploads/2025/11/IG-Rovigo-Piano-Festival.png
END:VEVENT
BEGIN:VEVENT
DTSTART;TZID=Europe/Paris:20251127T180000
DTEND;TZID=Europe/Paris:20251127T190000
DTSTAMP:20260417T072416
CREATED:20251121T141013Z
LAST-MODIFIED:20251121T141044Z
UID:10000131-1764266400-1764270000@conservatoriorovigo.it
SUMMARY:“Cardi Sardi” – Presentazione – Concerto di Claudio Sanna\, pianoforte
DESCRIPTION:📍27 novembre ore 18:00 – Auditorium Tamburini\n“Cardi Sardi” – Presentazione – Concerto di Claudio Sanna\, pianoforte
URL:https://conservatoriorovigo.it/evento/cardi-sardi-presentazione-concerto-di-claudio-sanna-pianoforte/
LOCATION:Auditorium “Marco Tamburini”\, Via Pighin\, Rovigo\, Veneto\, 45100\, Italy
CATEGORIES:Concerti
ATTACH;FMTTYPE=image/png:https://conservatoriorovigo.it/wp-content/uploads/2025/11/IG-Rovigo-Piano-Festival.png
END:VEVENT
BEGIN:VEVENT
DTSTART;TZID=Europe/Paris:20251127T210000
DTEND;TZID=Europe/Paris:20251127T230000
DTSTAMP:20260417T072416
CREATED:20251124T084041Z
LAST-MODIFIED:20251124T084642Z
UID:10000132-1764277200-1764284400@conservatoriorovigo.it
SUMMARY:Concerto di Pietro De Maria\, pianoforte
DESCRIPTION:📍27 novembre ore 21:00 – Tempio della Rotonda\nConcerto di Pietro De Maria\, pianoforte
URL:https://conservatoriorovigo.it/evento/concerto-di-pietro-de-maria-pianoforte/
LOCATION:Tempio della Beata Vergine del Soccorso “La Rotonda”\, Piazza XX Settembre 37\, Rovigo\, Veneto\, 45100\, Italy
CATEGORIES:Concerti
ATTACH;FMTTYPE=image/png:https://conservatoriorovigo.it/wp-content/uploads/2025/11/IG-Rovigo-Piano-Festival.png
END:VEVENT
BEGIN:VEVENT
DTSTART;TZID=Europe/Paris:20251128T100000
DTEND;TZID=Europe/Paris:20251128T170000
DTSTAMP:20260417T072416
CREATED:20251124T125603Z
LAST-MODIFIED:20251124T130119Z
UID:10000139-1764324000-1764349200@conservatoriorovigo.it
SUMMARY:MASTERCLASS Pietro De Maria
DESCRIPTION:📍28 novembre ore 10:00-13:00\, 15:30-18:30 – Auditorium Tamburini\nMASTERCLASS Pietro De Maria
URL:https://conservatoriorovigo.it/evento/masterclass-pietro-de-maria/
LOCATION:Auditorium “Marco Tamburini”\, Via Pighin\, Rovigo\, Veneto\, 45100\, Italy
CATEGORIES:Masterclass e Seminari
ATTACH;FMTTYPE=image/png:https://conservatoriorovigo.it/wp-content/uploads/2025/11/IG-Rovigo-Piano-Festival.png
END:VEVENT
BEGIN:VEVENT
DTSTART;TZID=Europe/Paris:20251128T173000
DTEND;TZID=Europe/Paris:20251128T180000
DTSTAMP:20260417T072416
CREATED:20251124T084301Z
LAST-MODIFIED:20251124T084301Z
UID:10000133-1764351000-1764352800@conservatoriorovigo.it
SUMMARY:"Il maestro dei maestri: le composizioni pianistiche di Giovanni Anfossi" - Presentazione - Massimiliano Génot\, Pianoforte
DESCRIPTION:📍27 novembre ore 21:00 – Auditorium Tamburini\n“Il maestro dei maestri: le composizioni pianistiche di Giovanni Anfossi” – Presentazione – Massimiliano Génot\, Pianoforte
URL:https://conservatoriorovigo.it/evento/il-maestro-dei-maestri-le-composizioni-pianistiche-di-giovanni-anfossi-presentazione-massimiliano-genot-pianoforte/
LOCATION:Auditorium “Marco Tamburini”\, Via Pighin\, Rovigo\, Veneto\, 45100\, Italy
CATEGORIES:Concerti
ATTACH;FMTTYPE=image/png:https://conservatoriorovigo.it/wp-content/uploads/2025/11/IG-Rovigo-Piano-Festival.png
END:VEVENT
BEGIN:VEVENT
DTSTART;TZID=Europe/Paris:20251128T180000
DTEND;TZID=Europe/Paris:20251128T190000
DTSTAMP:20260417T072416
CREATED:20251124T085029Z
LAST-MODIFIED:20251124T085029Z
UID:10000134-1764352800-1764356400@conservatoriorovigo.it
SUMMARY:"Ricordi d'Italia: identità e società nella musica pianisitica di Giulio Ricordi" - Presetazione - Concerto di Jorge Juárez Alvarez\, pianoforte
DESCRIPTION:📍28 novembre ore 18:00 – Auditorium Tamburini\n“Ricordi d’Italia: identità e società nella musica pianisitica di Giulio Ricordi” – Presetazione – Concerto di Jorge Juárez Alvarez\, pianoforte
URL:https://conservatoriorovigo.it/evento/ricordi-ditalia-identita-e-societa-nella-musica-pianisitica-di-giulio-ricordi-presetazione-concerto-di-jorge-juarez-alvarez-pianoforte/
LOCATION:Auditorium “Marco Tamburini”\, Via Pighin\, Rovigo\, Veneto\, 45100\, Italy
CATEGORIES:Concerti
ATTACH;FMTTYPE=image/png:https://conservatoriorovigo.it/wp-content/uploads/2025/11/IG-Rovigo-Piano-Festival.png
END:VEVENT
BEGIN:VEVENT
DTSTART;TZID=Europe/Paris:20251129T100000
DTEND;TZID=Europe/Paris:20251129T170000
DTSTAMP:20260417T072416
CREATED:20251124T125722Z
LAST-MODIFIED:20251124T130223Z
UID:10000142-1764410400-1764435600@conservatoriorovigo.it
SUMMARY:MASTERCLASS Pietro De Maria
DESCRIPTION:📍29 novembre ore 10:00-13:00\, 15:30-18:30 – Auditorium Tamburini\nMASTERCLASS Pietro De Maria
URL:https://conservatoriorovigo.it/evento/masterclass-pietro-de-maria-2/
LOCATION:Auditorium “Marco Tamburini”\, Via Pighin\, Rovigo\, Veneto\, 45100\, Italy
CATEGORIES:Masterclass e Seminari
ATTACH;FMTTYPE=image/png:https://conservatoriorovigo.it/wp-content/uploads/2025/11/IG-Rovigo-Piano-Festival.png
END:VEVENT
END:VCALENDAR