BEGIN:VCALENDAR
VERSION:2.0
PRODID:-//Conservatorio di Rovigo Francesco Venezze - ECPv6.15.20//NONSGML v1.0//EN
CALSCALE:GREGORIAN
METHOD:PUBLISH
X-ORIGINAL-URL:https://conservatoriorovigo.it
X-WR-CALDESC:Eventi per Conservatorio di Rovigo Francesco Venezze
REFRESH-INTERVAL;VALUE=DURATION:PT1H
X-Robots-Tag:noindex
X-PUBLISHED-TTL:PT1H
BEGIN:VTIMEZONE
TZID:Europe/Paris
BEGIN:DAYLIGHT
TZOFFSETFROM:+0100
TZOFFSETTO:+0200
TZNAME:CEST
DTSTART:20240331T010000
END:DAYLIGHT
BEGIN:STANDARD
TZOFFSETFROM:+0200
TZOFFSETTO:+0100
TZNAME:CET
DTSTART:20241027T010000
END:STANDARD
BEGIN:DAYLIGHT
TZOFFSETFROM:+0100
TZOFFSETTO:+0200
TZNAME:CEST
DTSTART:20250330T010000
END:DAYLIGHT
BEGIN:STANDARD
TZOFFSETFROM:+0200
TZOFFSETTO:+0100
TZNAME:CET
DTSTART:20251026T010000
END:STANDARD
BEGIN:DAYLIGHT
TZOFFSETFROM:+0100
TZOFFSETTO:+0200
TZNAME:CEST
DTSTART:20260329T010000
END:DAYLIGHT
BEGIN:STANDARD
TZOFFSETFROM:+0200
TZOFFSETTO:+0100
TZNAME:CET
DTSTART:20261025T010000
END:STANDARD
END:VTIMEZONE
BEGIN:VEVENT
DTSTART;TZID=Europe/Paris:20251014T180000
DTEND;TZID=Europe/Paris:20251014T200000
DTSTAMP:20260416T151920
CREATED:20250918T072108Z
LAST-MODIFIED:20250918T072608Z
UID:10000106-1760464800-1760472000@conservatoriorovigo.it
SUMMARY:CONCERTO “ALFABETO SONGS. FATTI E MISFATTI D’AMORE DEL 1600”
DESCRIPTION:[vc_row][vc_column][vc_empty_space woodmart_hide_large=”0″ woodmart_hide_medium=”0″ woodmart_hide_small=”0″][vc_separator color=”custom” css=”” accent_color=”#790101″ wd_hide_on_desktop=”no” wd_hide_on_tablet=”no” wd_hide_on_mobile=”no”][/vc_column][/vc_row][vc_row][vc_column]		\n			📍 Martedì 14 ottobre 2025 – ore 18:00 \nSalone dei Concerti del Conservatorio Rovigo  \nCONCERTO “ALFABETO SONGS. FATTI E MISFATTI D’AMORE DEL 1600” \nMonica Piccinini\, voce\nMarco Saccardin\, voce e tiorba\nMonica Paolini\, chitarra barocca\nBrani di S. Landi\, A. Falconieri\, C. Monteverdi\, B. Marini\n  \n📣 ENTRATA LIBERA E GRATUITA  \n		\n		[/vc_column][/vc_row][vc_row][vc_column][vc_empty_space woodmart_hide_large=”0″ woodmart_hide_medium=”0″ woodmart_hide_small=”0″][vc_separator color=”custom” css=”” accent_color=”#790101″ wd_hide_on_desktop=”no” wd_hide_on_tablet=”no” wd_hide_on_mobile=”no”][vc_empty_space woodmart_hide_large=”0″ woodmart_hide_medium=”0″ woodmart_hide_small=”0″][/vc_column][/vc_row]
URL:https://conservatoriorovigo.it/evento/concerto-alfabeto-songs-fatti-e-misfatti-damore-del-1600/
LOCATION:“Salone dei Concerti” Palazzo Venezze\, Corso del Popolo\, 241\, Rovigo\, Veneto\, 45100\, Italy
CATEGORIES:Concerti
ATTACH;FMTTYPE=image/png:https://conservatoriorovigo.it/wp-content/uploads/2025/09/Post-IG-La-Chitarra-al-Venezze-2025-scaled.png
END:VEVENT
BEGIN:VEVENT
DTSTART;TZID=Europe/Paris:20251002T180000
DTEND;TZID=Europe/Paris:20251002T200000
DTSTAMP:20260416T151920
CREATED:20250918T065329Z
LAST-MODIFIED:20250918T072530Z
UID:10000105-1759428000-1759435200@conservatoriorovigo.it
SUMMARY:CONCERTO “LA CHITARRA ROMANTICA E I SUOI AUTORI”
DESCRIPTION:[vc_row][vc_column][vc_empty_space woodmart_hide_large=”0″ woodmart_hide_medium=”0″ woodmart_hide_small=”0″][vc_separator color=”custom” css=”” accent_color=”#790101″ wd_hide_on_desktop=”no” wd_hide_on_tablet=”no” wd_hide_on_mobile=”no”][/vc_column][/vc_row][vc_row][vc_column]		\n			📍 Giovedì 2 ottobre 2025 – ore 18:00 \nSalone dei Concerti del Conservatorio Rovigo  \nCONCERTO “LA CHITARRA ROMANTICA E I SUOI AUTORI”  \nMarcello Fantoni\, chitarra René Lacôte \nBrani di F. Carulli\, N. Paganini\, D. Aguado\, F. Sor \n  \n📣 ENTRATA LIBERA E GRATUITA  \n		\n		[/vc_column][/vc_row][vc_row][vc_column][vc_empty_space woodmart_hide_large=”0″ woodmart_hide_medium=”0″ woodmart_hide_small=”0″][vc_separator color=”custom” css=”” accent_color=”#790101″ wd_hide_on_desktop=”no” wd_hide_on_tablet=”no” wd_hide_on_mobile=”no”][vc_empty_space woodmart_hide_large=”0″ woodmart_hide_medium=”0″ woodmart_hide_small=”0″][/vc_column][/vc_row]
URL:https://conservatoriorovigo.it/evento/concerto-la-chitarra-romantica-e-i-suoi-autori/
LOCATION:“Salone dei Concerti” Palazzo Venezze\, Corso del Popolo\, 241\, Rovigo\, Veneto\, 45100\, Italy
CATEGORIES:Concerti
ATTACH;FMTTYPE=image/png:https://conservatoriorovigo.it/wp-content/uploads/2025/09/Post-IG-La-Chitarra-al-Venezze-2025-scaled.png
END:VEVENT
BEGIN:VEVENT
DTSTART;TZID=Europe/Paris:20251001T100000
DTEND;TZID=Europe/Paris:20251001T190000
DTSTAMP:20260416T151920
CREATED:20250807T115039Z
LAST-MODIFIED:20250807T124154Z
UID:10000077-1759312800-1759345200@conservatoriorovigo.it
SUMMARY:MASTER CLASS DI PERFEZIONAMENTO “IL LIED TEDESCO IN ITALIA”
DESCRIPTION:[vc_row][vc_column][vc_empty_space woodmart_hide_large=”0″ woodmart_hide_medium=”0″ woodmart_hide_small=”0″][vc_separator color=”custom” css=”” accent_color=”#790101″ wd_hide_on_desktop=”no” wd_hide_on_tablet=”no” wd_hide_on_mobile=”no”][/vc_column][/vc_row][vc_row][vc_column]		\n			ROVIGO OMAGGIA DIETRICH FISCHER-DIESKAU NEL CENTENARIO DALLA NASCITA\nLa master class di perfezionamento Il Lied tedesco organizzata e sostenuta da Fondazione Rovigo Cultura in collaborazione con il Conservatorio Statale di Musica Francesco Venezze di Rovigo nell’ambito delle celebrazioni italiane del grande baritono Dietrich Fischer-Dieskau nel centenario della nascita\, ha come obiettivo l’approfondimento del repertorio liederistico tedescoe la musica vocale da camera italiana ed è rivolto a cantanti e pianisti in duo o singolarmente(in questo secondo caso il lavoro comune verrà organizzato dall’assistente del docente).\nLa lezione – concerto pubblica a fine master class\, è considerata parte integrante del percorso formativo e permetterà agli allievi di mettere alla prova la loro preparazione. \n  \nVAI ALLA PAGINA DEDICATA: CLICCA QUI\n		\n		[vc_empty_space woodmart_hide_large=”0″ woodmart_hide_medium=”0″ woodmart_hide_small=”0″][/vc_column][/vc_row][vc_row][vc_column][vc_empty_space woodmart_hide_large=”0″ woodmart_hide_medium=”0″ woodmart_hide_small=”0″][vc_separator color=”custom” css=”” accent_color=”#790101″ wd_hide_on_desktop=”no” wd_hide_on_tablet=”no” wd_hide_on_mobile=”no”][vc_empty_space woodmart_hide_large=”0″ woodmart_hide_medium=”0″ woodmart_hide_small=”0″][/vc_column][/vc_row]
URL:https://conservatoriorovigo.it/evento/master-class-di-perfezionamento-il-lied-tedesco-in-italia/2025-10-01/
LOCATION:“Salone dei Concerti” Palazzo Venezze\, Corso del Popolo\, 241\, Rovigo\, Veneto\, 45100\, Italy
CATEGORIES:Concerti,Masterclass e Seminari
ATTACH;FMTTYPE=image/jpeg:https://conservatoriorovigo.it/wp-content/uploads/2025/08/locandina_masterclass_07_08_def_alta_ris-scaled.jpg
ORGANIZER;CN="Fondazione Rovigo Cultura":MAILTO:rovigocultura@gmail.com
END:VEVENT
BEGIN:VEVENT
DTSTART;TZID=Europe/Paris:20250930T100000
DTEND;TZID=Europe/Paris:20250930T190000
DTSTAMP:20260416T151920
CREATED:20250807T115039Z
LAST-MODIFIED:20250807T124154Z
UID:10000076-1759226400-1759258800@conservatoriorovigo.it
SUMMARY:MASTER CLASS DI PERFEZIONAMENTO “IL LIED TEDESCO IN ITALIA”
DESCRIPTION:[vc_row][vc_column][vc_empty_space woodmart_hide_large=”0″ woodmart_hide_medium=”0″ woodmart_hide_small=”0″][vc_separator color=”custom” css=”” accent_color=”#790101″ wd_hide_on_desktop=”no” wd_hide_on_tablet=”no” wd_hide_on_mobile=”no”][/vc_column][/vc_row][vc_row][vc_column]		\n			ROVIGO OMAGGIA DIETRICH FISCHER-DIESKAU NEL CENTENARIO DALLA NASCITA\nLa master class di perfezionamento Il Lied tedesco organizzata e sostenuta da Fondazione Rovigo Cultura in collaborazione con il Conservatorio Statale di Musica Francesco Venezze di Rovigo nell’ambito delle celebrazioni italiane del grande baritono Dietrich Fischer-Dieskau nel centenario della nascita\, ha come obiettivo l’approfondimento del repertorio liederistico tedescoe la musica vocale da camera italiana ed è rivolto a cantanti e pianisti in duo o singolarmente(in questo secondo caso il lavoro comune verrà organizzato dall’assistente del docente).\nLa lezione – concerto pubblica a fine master class\, è considerata parte integrante del percorso formativo e permetterà agli allievi di mettere alla prova la loro preparazione. \n  \nVAI ALLA PAGINA DEDICATA: CLICCA QUI\n		\n		[vc_empty_space woodmart_hide_large=”0″ woodmart_hide_medium=”0″ woodmart_hide_small=”0″][/vc_column][/vc_row][vc_row][vc_column][vc_empty_space woodmart_hide_large=”0″ woodmart_hide_medium=”0″ woodmart_hide_small=”0″][vc_separator color=”custom” css=”” accent_color=”#790101″ wd_hide_on_desktop=”no” wd_hide_on_tablet=”no” wd_hide_on_mobile=”no”][vc_empty_space woodmart_hide_large=”0″ woodmart_hide_medium=”0″ woodmart_hide_small=”0″][/vc_column][/vc_row]
URL:https://conservatoriorovigo.it/evento/master-class-di-perfezionamento-il-lied-tedesco-in-italia/2025-09-30/
LOCATION:“Salone dei Concerti” Palazzo Venezze\, Corso del Popolo\, 241\, Rovigo\, Veneto\, 45100\, Italy
CATEGORIES:Concerti,Masterclass e Seminari
ATTACH;FMTTYPE=image/jpeg:https://conservatoriorovigo.it/wp-content/uploads/2025/08/locandina_masterclass_07_08_def_alta_ris-scaled.jpg
ORGANIZER;CN="Fondazione Rovigo Cultura":MAILTO:rovigocultura@gmail.com
END:VEVENT
BEGIN:VEVENT
DTSTART;TZID=Europe/Paris:20250929T100000
DTEND;TZID=Europe/Paris:20250929T180000
DTSTAMP:20260416T151920
CREATED:20250807T115039Z
LAST-MODIFIED:20250807T124154Z
UID:10000074-1759140000-1759168800@conservatoriorovigo.it
SUMMARY:MASTER CLASS DI PERFEZIONAMENTO “IL LIED TEDESCO IN ITALIA”
DESCRIPTION:[vc_row][vc_column][vc_empty_space woodmart_hide_large=”0″ woodmart_hide_medium=”0″ woodmart_hide_small=”0″][vc_separator color=”custom” css=”” accent_color=”#790101″ wd_hide_on_desktop=”no” wd_hide_on_tablet=”no” wd_hide_on_mobile=”no”][/vc_column][/vc_row][vc_row][vc_column]		\n			ROVIGO OMAGGIA DIETRICH FISCHER-DIESKAU NEL CENTENARIO DALLA NASCITA\nLa master class di perfezionamento Il Lied tedesco organizzata e sostenuta da Fondazione Rovigo Cultura in collaborazione con il Conservatorio Statale di Musica Francesco Venezze di Rovigo nell’ambito delle celebrazioni italiane del grande baritono Dietrich Fischer-Dieskau nel centenario della nascita\, ha come obiettivo l’approfondimento del repertorio liederistico tedescoe la musica vocale da camera italiana ed è rivolto a cantanti e pianisti in duo o singolarmente(in questo secondo caso il lavoro comune verrà organizzato dall’assistente del docente).\nLa lezione – concerto pubblica a fine master class\, è considerata parte integrante del percorso formativo e permetterà agli allievi di mettere alla prova la loro preparazione. \n  \nVAI ALLA PAGINA DEDICATA: CLICCA QUI\n		\n		[vc_empty_space woodmart_hide_large=”0″ woodmart_hide_medium=”0″ woodmart_hide_small=”0″][/vc_column][/vc_row][vc_row][vc_column][vc_empty_space woodmart_hide_large=”0″ woodmart_hide_medium=”0″ woodmart_hide_small=”0″][vc_separator color=”custom” css=”” accent_color=”#790101″ wd_hide_on_desktop=”no” wd_hide_on_tablet=”no” wd_hide_on_mobile=”no”][vc_empty_space woodmart_hide_large=”0″ woodmart_hide_medium=”0″ woodmart_hide_small=”0″][/vc_column][/vc_row]
URL:https://conservatoriorovigo.it/evento/master-class-di-perfezionamento-il-lied-tedesco-in-italia/2025-09-29/
LOCATION:“Salone dei Concerti” Palazzo Venezze\, Corso del Popolo\, 241\, Rovigo\, Veneto\, 45100\, Italy
CATEGORIES:Concerti,Masterclass e Seminari
ATTACH;FMTTYPE=image/jpeg:https://conservatoriorovigo.it/wp-content/uploads/2025/08/locandina_masterclass_07_08_def_alta_ris-scaled.jpg
ORGANIZER;CN="Fondazione Rovigo Cultura":MAILTO:rovigocultura@gmail.com
END:VEVENT
END:VCALENDAR