BEGIN:VCALENDAR
VERSION:2.0
PRODID:-//Conservatorio di Rovigo Francesco Venezze - ECPv6.15.20//NONSGML v1.0//EN
CALSCALE:GREGORIAN
METHOD:PUBLISH
X-WR-CALNAME:Conservatorio di Rovigo Francesco Venezze
X-ORIGINAL-URL:https://conservatoriorovigo.it
X-WR-CALDESC:Eventi per Conservatorio di Rovigo Francesco Venezze
REFRESH-INTERVAL;VALUE=DURATION:PT1H
X-Robots-Tag:noindex
X-PUBLISHED-TTL:PT1H
BEGIN:VTIMEZONE
TZID:Europe/Paris
BEGIN:DAYLIGHT
TZOFFSETFROM:+0100
TZOFFSETTO:+0200
TZNAME:CEST
DTSTART:20240331T010000
END:DAYLIGHT
BEGIN:STANDARD
TZOFFSETFROM:+0200
TZOFFSETTO:+0100
TZNAME:CET
DTSTART:20241027T010000
END:STANDARD
BEGIN:DAYLIGHT
TZOFFSETFROM:+0100
TZOFFSETTO:+0200
TZNAME:CEST
DTSTART:20250330T010000
END:DAYLIGHT
BEGIN:STANDARD
TZOFFSETFROM:+0200
TZOFFSETTO:+0100
TZNAME:CET
DTSTART:20251026T010000
END:STANDARD
BEGIN:DAYLIGHT
TZOFFSETFROM:+0100
TZOFFSETTO:+0200
TZNAME:CEST
DTSTART:20260329T010000
END:DAYLIGHT
BEGIN:STANDARD
TZOFFSETFROM:+0200
TZOFFSETTO:+0100
TZNAME:CET
DTSTART:20261025T010000
END:STANDARD
END:VTIMEZONE
BEGIN:VEVENT
DTSTART;TZID=Europe/Paris:20251107T210000
DTEND;TZID=Europe/Paris:20251107T230000
DTSTAMP:20260416T160652
CREATED:20251028T100634Z
LAST-MODIFIED:20251028T100634Z
UID:10000125-1762549200-1762556400@conservatoriorovigo.it
SUMMARY:50 anni di musica - Orchestra Fiati F. Venezze
DESCRIPTION:𝟓𝟎 𝐚𝐧𝐧𝐢 𝐝𝐢 𝐦𝐮𝐬𝐢𝐜𝐚\n𝐎𝐑𝐂𝐇𝐄𝐒𝐓𝐑𝐀 𝐅𝐈𝐀𝐓𝐈 𝐅. 𝐕𝐄𝐍𝐄𝐙𝐙𝐄 \nVENERDÌ 7 NOVEMRE 2025 – ore 21:00\nRovigo – tempio della b.v. del Soccorso – La Rotonda \nDirettore Stefano Romani \nMusiche di Ottorino Respighi\, Sergej Sergeevič Prokof’ev \n  \n📣 Ingresso gratuito
URL:https://conservatoriorovigo.it/evento/50-anni-di-musica-orchestra-fiati-f-venezze/
LOCATION:Tempio della Beata Vergine del Soccorso “La Rotonda”\, Piazza XX Settembre 37\, Rovigo\, Veneto\, 45100\, Italy
CATEGORIES:Concerti
ATTACH;FMTTYPE=image/png:https://conservatoriorovigo.it/wp-content/uploads/2025/10/Post-IG-Fiati-07-novembre-2025.png
END:VEVENT
BEGIN:VEVENT
DTSTART;TZID=Europe/Paris:20250914T204500
DTEND;TZID=Europe/Paris:20250914T230000
DTSTAMP:20260416T160652
CREATED:20250902T105547Z
LAST-MODIFIED:20250902T105547Z
UID:10000081-1757882700-1757890800@conservatoriorovigo.it
SUMMARY:I CONCERTI BRANDEBURGHESI
DESCRIPTION:[vc_row][vc_column][vc_empty_space woodmart_hide_large=”0″ woodmart_hide_medium=”0″ woodmart_hide_small=”0″][vc_separator color=”custom” css=”” accent_color=”#790101″ wd_hide_on_desktop=”no” wd_hide_on_tablet=”no” wd_hide_on_mobile=”no”][/vc_column][/vc_row][vc_row][vc_column width=”1/2″]		\n			𝐈 𝐂𝐎𝐍𝐂𝐄𝐑𝐓𝐈 𝐁𝐑𝐀𝐍𝐃𝐄𝐁𝐔𝐑𝐆𝐇𝐄𝐒𝐈\nJohann Sebastian Bach \n  \n📍Domenica 14 settembre 2025 – ore 20:45\nTempio della Rotonda – Rovigo \n  \nProgetto a cura del Docente\nM° Alberto Salomon\ncon la collaborazione dei Docenti\nM° Federico Guglielmo\, M° Daniele Giorgi\, M° Maurizio Simeoli\, M° Federica Bianchi\n📣 INGRESSO GRATUITO \n		\n		[/vc_column][vc_column width=”1/2″][vc_empty_space woodmart_hide_large=”0″ woodmart_hide_medium=”0″ woodmart_hide_small=”0″][/vc_column][/vc_row][vc_row][vc_column][vc_empty_space woodmart_hide_large=”0″ woodmart_hide_medium=”0″ woodmart_hide_small=”0″][vc_separator color=”custom” css=”” accent_color=”#790101″ wd_hide_on_desktop=”no” wd_hide_on_tablet=”no” wd_hide_on_mobile=”no”][vc_empty_space woodmart_hide_large=”0″ woodmart_hide_medium=”0″ woodmart_hide_small=”0″][/vc_column][/vc_row]
URL:https://conservatoriorovigo.it/evento/i-concerti-brandeburghesi/
LOCATION:Tempio della Beata Vergine del Soccorso “La Rotonda”\, Piazza XX Settembre 37\, Rovigo\, Veneto\, 45100\, Italy
CATEGORIES:Concerti
ATTACH;FMTTYPE=image/png:https://conservatoriorovigo.it/wp-content/uploads/2025/09/Post-IG-Brandeburghesi.png
END:VEVENT
BEGIN:VEVENT
DTSTART;TZID=Europe/Paris:20250830T210000
DTEND;TZID=Europe/Paris:20250921T230000
DTSTAMP:20260416T160652
CREATED:20250826T071620Z
LAST-MODIFIED:20250917T115436Z
UID:10000080-1756587600-1758495600@conservatoriorovigo.it
SUMMARY:Rovigo Cello City 2025
DESCRIPTION:[vc_row][vc_column][vc_separator color=”custom” css=”” accent_color=”#790101″ wd_hide_on_desktop=”no” wd_hide_on_tablet=”no” wd_hide_on_mobile=”no”][vc_empty_space woodmart_hide_large=”0″ woodmart_hide_medium=”0″ woodmart_hide_small=”0″][vc_separator color=”custom” css=”” accent_color=”#790101″ wd_hide_on_desktop=”no” wd_hide_on_tablet=”no” wd_hide_on_mobile=”no”][/vc_column][/vc_row][vc_row woodmart_css_id=”68ad606663ecb” responsive_spacing=”eyJwYXJhbV90eXBlIjoid29vZG1hcnRfcmVzcG9uc2l2ZV9zcGFjaW5nIiwic2VsZWN0b3JfaWQiOiI2OGFkNjA2NjYzZWNiIiwic2hvcnRjb2RlIjoidmNfcm93IiwiZGF0YSI6eyJ0YWJsZXQiOnt9LCJtb2JpbGUiOnt9fX0=” mobile_bg_img_hidden=”no” tablet_bg_img_hidden=”no” woodmart_parallax=”0″ woodmart_gradient_switch=”no” woodmart_box_shadow=”no” wd_z_index=”no” woodmart_disable_overflow=”0″ row_reverse_mobile=”0″ row_reverse_tablet=”0″][vc_column width=”1/2″]		\n			30 agosto h. 21.00 – Tempio della Rotonda \nIL VIOLONCELLO VIRTUOSO \nI SOLISTI FILARMONICI ITALIANI diretti da Federico Guglielmo \nMAXIMILIAN HORNUNG violoncello \n		\n		[/vc_column][vc_column width=”1/2″]			 					\n							\n			\n			\n							\n					\n		[/vc_column][/vc_row][vc_row][vc_column][vc_empty_space woodmart_hide_large=”0″ woodmart_hide_medium=”0″ woodmart_hide_small=”0″][vc_separator color=”custom” css=”” accent_color=”#790101″ wd_hide_on_desktop=”no” wd_hide_on_tablet=”no” wd_hide_on_mobile=”no”][/vc_column][/vc_row][vc_row woodmart_css_id=”68ad606663ecb” responsive_spacing=”eyJwYXJhbV90eXBlIjoid29vZG1hcnRfcmVzcG9uc2l2ZV9zcGFjaW5nIiwic2VsZWN0b3JfaWQiOiI2OGFkNjA2NjYzZWNiIiwic2hvcnRjb2RlIjoidmNfcm93IiwiZGF0YSI6eyJ0YWJsZXQiOnt9LCJtb2JpbGUiOnt9fX0=” mobile_bg_img_hidden=”no” tablet_bg_img_hidden=”no” woodmart_parallax=”0″ woodmart_gradient_switch=”no” woodmart_box_shadow=”no” wd_z_index=”no” woodmart_disable_overflow=”0″ row_reverse_mobile=”0″ row_reverse_tablet=”0″][vc_column width=”1/2″]		\n			31 agosto h 17.00 – Auditorium “M. Tamburini” \nL’ISOLA DEI VIOLONCELLI \nFavola di MARCO SCHIAVON con le Formiche di FABIO VETTORI \nSAIDA PUPPOLI attrice \nI PICCOLI VIOLONCELLI DI RCC \nROBERTO DE NITTIS pianoforte \n		\n		[/vc_column][vc_column width=”1/2″]		\n							\n			\n			\n							\n					\n		[/vc_column][/vc_row][vc_row][vc_column][vc_empty_space woodmart_hide_large=”0″ woodmart_hide_medium=”0″ woodmart_hide_small=”0″][vc_separator color=”custom” css=”” accent_color=”#790101″ wd_hide_on_desktop=”no” wd_hide_on_tablet=”no” wd_hide_on_mobile=”no”][/vc_column][/vc_row][vc_row woodmart_css_id=”68ad606663ecb” responsive_spacing=”eyJwYXJhbV90eXBlIjoid29vZG1hcnRfcmVzcG9uc2l2ZV9zcGFjaW5nIiwic2VsZWN0b3JfaWQiOiI2OGFkNjA2NjYzZWNiIiwic2hvcnRjb2RlIjoidmNfcm93IiwiZGF0YSI6eyJ0YWJsZXQiOnt9LCJtb2JpbGUiOnt9fX0=” mobile_bg_img_hidden=”no” tablet_bg_img_hidden=”no” woodmart_parallax=”0″ woodmart_gradient_switch=”no” woodmart_box_shadow=”no” wd_z_index=”no” woodmart_disable_overflow=”0″ row_reverse_mobile=”0″ row_reverse_tablet=”0″][vc_column width=”1/2″]		\n			01 settembre h 21.00 – Auditorium “M. Tamburini” \nDUO CARDELLI GIACOMO e MATTEO CARDELLI violoncello e pianoforte \nConcerto in collaborazione con il Restival Pianistico Internazionale Bartolomeo Cristofori di Padova \n		\n		[/vc_column][vc_column width=”1/2″]		\n							\n			\n			\n							\n					\n		[/vc_column][/vc_row][vc_row][vc_column][vc_empty_space woodmart_hide_large=”0″ woodmart_hide_medium=”0″ woodmart_hide_small=”0″][vc_separator color=”custom” css=”” accent_color=”#790101″ wd_hide_on_desktop=”no” wd_hide_on_tablet=”no” wd_hide_on_mobile=”no”][/vc_column][/vc_row][vc_row woodmart_css_id=”68ad606663ecb” responsive_spacing=”eyJwYXJhbV90eXBlIjoid29vZG1hcnRfcmVzcG9uc2l2ZV9zcGFjaW5nIiwic2VsZWN0b3JfaWQiOiI2OGFkNjA2NjYzZWNiIiwic2hvcnRjb2RlIjoidmNfcm93IiwiZGF0YSI6eyJ0YWJsZXQiOnt9LCJtb2JpbGUiOnt9fX0=” mobile_bg_img_hidden=”no” tablet_bg_img_hidden=”no” woodmart_parallax=”0″ woodmart_gradient_switch=”no” woodmart_box_shadow=”no” wd_z_index=”no” woodmart_disable_overflow=”0″ row_reverse_mobile=”0″ row_reverse_tablet=”0″][vc_column width=”1/2″]		\n			02 settembre h 21.00 – Auditorium “M. Tamburini” \nGEOMETRIE VARIABILI PETER SOMODARI 1° violoncello dei Wiener Philarmoniker \nDESIRÈE SCUCCUGLIA pianoforte \nMICHELE BALLO BERTIN\, ANDREA TALASSI\, LUCA DOLA GUARRA DONCE® \nTrascrizioni di DAVID VICENTINI \n		\n		[/vc_column][vc_column width=”1/2″]		\n							\n			\n			\n							\n					\n		[/vc_column][/vc_row][vc_row][vc_column][vc_empty_space woodmart_hide_large=”0″ woodmart_hide_medium=”0″ woodmart_hide_small=”0″][vc_separator color=”custom” css=”” accent_color=”#790101″ wd_hide_on_desktop=”no” wd_hide_on_tablet=”no” wd_hide_on_mobile=”no”][/vc_column][/vc_row][vc_row woodmart_css_id=”68ad606663ecb” responsive_spacing=”eyJwYXJhbV90eXBlIjoid29vZG1hcnRfcmVzcG9uc2l2ZV9zcGFjaW5nIiwic2VsZWN0b3JfaWQiOiI2OGFkNjA2NjYzZWNiIiwic2hvcnRjb2RlIjoidmNfcm93IiwiZGF0YSI6eyJ0YWJsZXQiOnt9LCJtb2JpbGUiOnt9fX0=” mobile_bg_img_hidden=”no” tablet_bg_img_hidden=”no” woodmart_parallax=”0″ woodmart_gradient_switch=”no” woodmart_box_shadow=”no” wd_z_index=”no” woodmart_disable_overflow=”0″ row_reverse_mobile=”0″ row_reverse_tablet=”0″][vc_column width=”1/2″]		\n			03 settembre h 21.00 – Chiesa del Cristo \nEVOLUTION \nMICHELE BALLO BERTIN violoncello \nPresentazione di NICOLETTA CONFALONE \n		\n		[/vc_column][vc_column width=”1/2″]		\n							\n			\n			\n							\n					\n		[/vc_column][/vc_row][vc_row][vc_column][vc_empty_space woodmart_hide_large=”0″ woodmart_hide_medium=”0″ woodmart_hide_small=”0″][vc_separator color=”custom” css=”” accent_color=”#790101″ wd_hide_on_desktop=”no” wd_hide_on_tablet=”no” wd_hide_on_mobile=”no”][/vc_column][/vc_row][vc_row woodmart_css_id=”68ad606663ecb” responsive_spacing=”eyJwYXJhbV90eXBlIjoid29vZG1hcnRfcmVzcG9uc2l2ZV9zcGFjaW5nIiwic2VsZWN0b3JfaWQiOiI2OGFkNjA2NjYzZWNiIiwic2hvcnRjb2RlIjoidmNfcm93IiwiZGF0YSI6eyJ0YWJsZXQiOnt9LCJtb2JpbGUiOnt9fX0=” mobile_bg_img_hidden=”no” tablet_bg_img_hidden=”no” woodmart_parallax=”0″ woodmart_gradient_switch=”no” woodmart_box_shadow=”no” wd_z_index=”no” woodmart_disable_overflow=”0″ row_reverse_mobile=”0″ row_reverse_tablet=”0″][vc_column width=”1/2″]		\n			04 settembre h21.00 – Auditorium “M. Tamburini” \nSTRIZZACERVELLI E STRIZZAVIOLONCELLI \nGIOVANNI BONIOLO narratore \nLUIGI PUXEDDU LUCA DONDI KIARA KILIANSKA e LUCA TALASSI violoncello \nFRANCESCA ANTONUCCI e ROBERTO DE NITTIS pianoforte \n		\n		[/vc_column][vc_column width=”1/2″]		\n							\n			\n			\n							\n					\n		[/vc_column][/vc_row][vc_row][vc_column][vc_empty_space woodmart_hide_large=”0″ woodmart_hide_medium=”0″ woodmart_hide_small=”0″][vc_separator color=”custom” css=”” accent_color=”#790101″ wd_hide_on_desktop=”no” wd_hide_on_tablet=”no” wd_hide_on_mobile=”no”][/vc_column][/vc_row][vc_row woodmart_css_id=”68ad606663ecb” responsive_spacing=”eyJwYXJhbV90eXBlIjoid29vZG1hcnRfcmVzcG9uc2l2ZV9zcGFjaW5nIiwic2VsZWN0b3JfaWQiOiI2OGFkNjA2NjYzZWNiIiwic2hvcnRjb2RlIjoidmNfcm93IiwiZGF0YSI6eyJ0YWJsZXQiOnt9LCJtb2JpbGUiOnt9fX0=” mobile_bg_img_hidden=”no” tablet_bg_img_hidden=”no” woodmart_parallax=”0″ woodmart_gradient_switch=”no” woodmart_box_shadow=”no” wd_z_index=”no” woodmart_disable_overflow=”0″ row_reverse_mobile=”0″ row_reverse_tablet=”0″][vc_column width=”1/2″]		\n			04 settembre h11.00 – Auditorium “M. Tamburini” \nCome gestire l’ansia e far brillare il talento \nSILVIA BONTEMPI – psicologa e musicista \nUna performance musicale efficace richiede molto più della sola preparazione tecnica: concentrazione\, gestione dell’ansia\, presenza mentale\, capacità di recuperare dopo un errore\, fiducia in sé stessi. Tutti questi aspetti\, spesso trascurati nella formazione tradizionale\, possono fare la differenza tra un’esecuzione bloccata e una realmente espressiva e comunicativa. In questo workshop esploreremo le competenze psicologiche che supportano la performance musicale\, offrendo strumenti concreti per affrontare il palcoscenico con maggiore consapevolezza\, serenità ed efficacia. Attraverso momenti di riflessione\, esercizi pratici e confronto\, lavoreremo per sviluppare una mentalità vincente che sostengano il musicista non solo durante l’esibizione\, ma anche nel percorso di preparazione e crescita personale. \n		\n		[/vc_column][vc_column width=”1/2″]		\n							\n			\n			\n							\n					\n				\n			Iscrizione gratuita a tutti gli studenti del conservatorio con mail a info@rovigocellocity.it \nPAGINA UFFICIALE: https://www.associazionevenezze.it \n		\n		[/vc_column][/vc_row][vc_row][vc_column][vc_empty_space woodmart_hide_large=”0″ woodmart_hide_medium=”0″ woodmart_hide_small=”0″][vc_separator color=”custom” css=”” accent_color=”#790101″ wd_hide_on_desktop=”no” wd_hide_on_tablet=”no” wd_hide_on_mobile=”no”][/vc_column][/vc_row][vc_row woodmart_css_id=”68ad606663ecb” responsive_spacing=”eyJwYXJhbV90eXBlIjoid29vZG1hcnRfcmVzcG9uc2l2ZV9zcGFjaW5nIiwic2VsZWN0b3JfaWQiOiI2OGFkNjA2NjYzZWNiIiwic2hvcnRjb2RlIjoidmNfcm93IiwiZGF0YSI6eyJ0YWJsZXQiOnt9LCJtb2JpbGUiOnt9fX0=” mobile_bg_img_hidden=”no” tablet_bg_img_hidden=”no” woodmart_parallax=”0″ woodmart_gradient_switch=”no” woodmart_box_shadow=”no” wd_z_index=”no” woodmart_disable_overflow=”0″ row_reverse_mobile=”0″ row_reverse_tablet=”0″][vc_column width=”1/2″]		\n			06 settembre h21.00 – Auditorium “M. Tamburini” \n1° PREMIO AL CONCORSO JEUNE CHOPIN 2025 \nANTONIO PAVAN pianoforte \ncon la partecipazione di ETTORE PAGANO violoncello \n		\n		[/vc_column][vc_column width=”1/2″]		\n							\n			\n			\n							\n					\n		[/vc_column][/vc_row][vc_row][vc_column][vc_empty_space woodmart_hide_large=”0″ woodmart_hide_medium=”0″ woodmart_hide_small=”0″][vc_separator color=”custom” css=”” accent_color=”#790101″ wd_hide_on_desktop=”no” wd_hide_on_tablet=”no” wd_hide_on_mobile=”no”][/vc_column][/vc_row][vc_row woodmart_css_id=”68ad606663ecb” responsive_spacing=”eyJwYXJhbV90eXBlIjoid29vZG1hcnRfcmVzcG9uc2l2ZV9zcGFjaW5nIiwic2VsZWN0b3JfaWQiOiI2OGFkNjA2NjYzZWNiIiwic2hvcnRjb2RlIjoidmNfcm93IiwiZGF0YSI6eyJ0YWJsZXQiOnt9LCJtb2JpbGUiOnt9fX0=” mobile_bg_img_hidden=”no” tablet_bg_img_hidden=”no” woodmart_parallax=”0″ woodmart_gradient_switch=”no” woodmart_box_shadow=”no” wd_z_index=”no” woodmart_disable_overflow=”0″ row_reverse_mobile=”0″ row_reverse_tablet=”0″][vc_column width=”1/2″]		\n			07 settembre h21.00 – Tempio della Rotonda \nARIA \nETTORE PAGANO violoncello \nMARILY SANTORO soprano \nI VIOLONCELLI DI RCC \n		\n		[/vc_column][vc_column width=”1/2″]		\n							\n			\n			\n							\n					\n		[/vc_column][/vc_row][vc_row][vc_column][vc_empty_space woodmart_hide_large=”0″ woodmart_hide_medium=”0″ woodmart_hide_small=”0″][vc_separator color=”custom” css=”” accent_color=”#790101″ wd_hide_on_desktop=”no” wd_hide_on_tablet=”no” wd_hide_on_mobile=”no”][/vc_column][/vc_row][vc_row woodmart_css_id=”68ad606663ecb” responsive_spacing=”eyJwYXJhbV90eXBlIjoid29vZG1hcnRfcmVzcG9uc2l2ZV9zcGFjaW5nIiwic2VsZWN0b3JfaWQiOiI2OGFkNjA2NjYzZWNiIiwic2hvcnRjb2RlIjoidmNfcm93IiwiZGF0YSI6eyJ0YWJsZXQiOnt9LCJtb2JpbGUiOnt9fX0=” mobile_bg_img_hidden=”no” tablet_bg_img_hidden=”no” woodmart_parallax=”0″ woodmart_gradient_switch=”no” woodmart_box_shadow=”no” wd_z_index=”no” woodmart_disable_overflow=”0″ row_reverse_mobile=”0″ row_reverse_tablet=”0″][vc_column width=”1/2″]		\n			21 settembre h20.45 – Teatro Sociale \nVioloncELIO \nChiusura del Festival e anteprima Una serata speciale con la partecipazione di ELIO (di Elio e le Storie Tese). \n		\n		[/vc_column][vc_column width=”1/2″]		\n							\n			\n			\n							\n					\n		[/vc_column][/vc_row][vc_row][vc_column][vc_empty_space woodmart_hide_large=”0″ woodmart_hide_medium=”0″ woodmart_hide_small=”0″]		\n							\n			\n			\n							\n					\n		[vc_empty_space woodmart_hide_large=”0″ woodmart_hide_medium=”0″ woodmart_hide_small=”0″][/vc_column][/vc_row][vc_row][vc_column][vc_empty_space woodmart_hide_large=”0″ woodmart_hide_medium=”0″ woodmart_hide_small=”0″][vc_separator color=”custom” css=”” accent_color=”#790101″ wd_hide_on_desktop=”no” wd_hide_on_tablet=”no” wd_hide_on_mobile=”no”][vc_empty_space woodmart_hide_large=”0″ woodmart_hide_medium=”0″ woodmart_hide_small=”0″][/vc_column][/vc_row]
URL:https://conservatoriorovigo.it/evento/rovigo-cello-city-2025/
LOCATION:Tempio della Beata Vergine del Soccorso “La Rotonda”\, Piazza XX Settembre 37\, Rovigo\, Veneto\, 45100\, Italy
CATEGORIES:Concerti,Conferenze,Masterclass e Seminari
ATTACH;FMTTYPE=image/jpeg:https://conservatoriorovigo.it/wp-content/uploads/2025/08/RCC-2025-programma.jpeg
ORGANIZER;CN="Associazione Musicale 'Francesco Venezze'":MAILTO:info@associazionevenezze.it
END:VEVENT
BEGIN:VEVENT
DTSTART;TZID=Europe/Paris:20250627T213000
DTEND;TZID=Europe/Paris:20250627T230000
DTSTAMP:20260416T160652
CREATED:20250723T080149Z
LAST-MODIFIED:20250723T080342Z
UID:10000015-1751059800-1751065200@conservatoriorovigo.it
SUMMARY:STANDFORD UNIVERSITY – WIND SYMPHONY
DESCRIPTION:[vc_row][vc_column][vc_empty_space woodmart_hide_large=”0″ woodmart_hide_medium=”0″ woodmart_hide_small=”0″][vc_separator color=”custom” css=”” accent_color=”#790101″ wd_hide_on_desktop=”no” wd_hide_on_tablet=”no” wd_hide_on_mobile=”no”][/vc_column][/vc_row][vc_row][vc_column width=”1/2″]		\n			𝑆𝑇𝐴𝑁𝐷𝐹𝑂𝑅𝐷 𝑈𝑁𝐼𝑉𝐸𝑅𝑆𝐼𝑇𝑌\n𝐖𝐈𝐍𝐃 𝐒𝐘𝐌𝐏𝐇𝐎𝐍𝐘\n𝑇𝑂𝑈𝑅𝑁𝐸́𝐸 𝐼𝑇𝐴𝐿𝐼𝐴𝑁𝐴 2025 \nVENERDÌ 27 GIUGNO 2025 – ore 21:00\nRovigo – Chiesa La Rotonda \nDirettore d’orchestra GIANCARLO AQUILANTI \nSoprano solista EYRA NORMAN \nCORI ARCOM \nMusiche di Giuseppe Verdi\, James Barnes\, Arturo Márquez\, Giancarlo Aquilanti \n📣 Ingresso libero \n		\n		[/vc_column][vc_column width=”1/2″][vc_empty_space woodmart_hide_large=”0″ woodmart_hide_medium=”0″ woodmart_hide_small=”0″][/vc_column][/vc_row][vc_row][vc_column][vc_empty_space woodmart_hide_large=”0″ woodmart_hide_medium=”0″ woodmart_hide_small=”0″][vc_separator color=”custom” css=”” accent_color=”#790101″ wd_hide_on_desktop=”no” wd_hide_on_tablet=”no” wd_hide_on_mobile=”no”][vc_empty_space woodmart_hide_large=”0″ woodmart_hide_medium=”0″ woodmart_hide_small=”0″][/vc_column][/vc_row]
URL:https://conservatoriorovigo.it/evento/standford-university-wind-symphony/
LOCATION:Tempio della Beata Vergine del Soccorso “La Rotonda”\, Piazza XX Settembre 37\, Rovigo\, Veneto\, 45100\, Italy
CATEGORIES:Concerti
ATTACH;FMTTYPE=image/png:https://conservatoriorovigo.it/wp-content/uploads/2025/06/Locandina-27-giugno-25-33x48-o-70x100-1.png
END:VEVENT
BEGIN:VEVENT
DTSTART;TZID=Europe/Paris:20250608T210000
DTEND;TZID=Europe/Paris:20250608T230000
DTSTAMP:20260416T160652
CREATED:20250723T095306Z
LAST-MODIFIED:20250723T100324Z
UID:10000028-1749416400-1749423600@conservatoriorovigo.it
SUMMARY:WIND FESTIVAL - Orchestra Fiati
DESCRIPTION:[vc_row][vc_column][vc_empty_space woodmart_hide_large=”0″ woodmart_hide_medium=”0″ woodmart_hide_small=”0″][vc_separator color=”custom” css=”” accent_color=”#790101″ wd_hide_on_desktop=”no” wd_hide_on_tablet=”no” wd_hide_on_mobile=”no”][/vc_column][/vc_row][vc_row][vc_column width=”1/2″]		\n			𝑆𝑇𝐴𝑁𝐷𝐹𝑂𝑅𝐷 𝑈𝑁𝐼𝑉𝐸𝑅𝑆𝐼𝑇𝑌\n𝐖𝐈𝐍𝐃 𝐒𝐘𝐌𝐏𝐇𝐎𝐍𝐘\n𝑇𝑂𝑈𝑅𝑁𝐸́𝐸 𝐼𝑇𝐴𝐿𝐼𝐴𝑁𝐴 2025 \nVENERDÌ 27 GIUGNO 2025 – ore 21:00\nRovigo – Chiesa La Rotonda \nDirettore d’orchestra GIANCARLO AQUILANTI \nSoprano solista EYRA NORMAN \nCORI ARCOM \nMusiche di Giuseppe Verdi\, James Barnes\, Arturo Márquez\, Giancarlo Aquilanti \n📣 Ingresso libero \n		\n		[/vc_column][vc_column width=”1/2″][vc_empty_space woodmart_hide_large=”0″ woodmart_hide_medium=”0″ woodmart_hide_small=”0″][/vc_column][/vc_row][vc_row][vc_column][vc_empty_space woodmart_hide_large=”0″ woodmart_hide_medium=”0″ woodmart_hide_small=”0″][vc_separator color=”custom” css=”” accent_color=”#790101″ wd_hide_on_desktop=”no” wd_hide_on_tablet=”no” wd_hide_on_mobile=”no”][vc_empty_space woodmart_hide_large=”0″ woodmart_hide_medium=”0″ woodmart_hide_small=”0″][/vc_column][/vc_row]
URL:https://conservatoriorovigo.it/evento/wind-festival-orchestra-fiati/
LOCATION:Tempio della Beata Vergine del Soccorso “La Rotonda”\, Piazza XX Settembre 37\, Rovigo\, Veneto\, 45100\, Italy
CATEGORIES:Concerti
ATTACH;FMTTYPE=image/jpeg:https://conservatoriorovigo.it/wp-content/uploads/2025/06/501278345_1236525688263186_7314690543557145630_n.jpg
END:VEVENT
BEGIN:VEVENT
DTSTART;TZID=Europe/Paris:20250604T170000
DTEND;TZID=Europe/Paris:20250604T190000
DTSTAMP:20260416T160652
CREATED:20250723T111523Z
LAST-MODIFIED:20250723T112622Z
UID:10000032-1749056400-1749063600@conservatoriorovigo.it
SUMMARY:IL MATRIMONIO SEGRETO – Esibizione degli allievi di Canto
DESCRIPTION:[vc_row][vc_column][vc_empty_space woodmart_hide_large=”0″ woodmart_hide_medium=”0″ woodmart_hide_small=”0″][vc_separator color=”custom” css=”” accent_color=”#790101″ wd_hide_on_desktop=”no” wd_hide_on_tablet=”no” wd_hide_on_mobile=”no”][/vc_column][/vc_row][vc_row][vc_column width=”1/2″]		\n			\n\nESIBIZIONE DEGLI ALLIEVI DELLE CLASSI DI CANTO\n𝐈𝐋 𝐌𝐀𝐓𝐑𝐈𝐌𝐎𝐍𝐈𝐎 𝐒𝐄𝐆𝐑𝐄𝐓𝐎\ndi Domenico Cimarosa \nMercoledì 4 giugno 2025\nore 17:00\nSalone dei Concerti – Corso del Popolo\, 241 – Rovigo \nInterpreti: Anais Calore\, Silvia Ghirardini\, Wei Yi\, Shini Wang \nPianoforte: Carlo Alberto Bacchi \n\n\n\n		\n		[/vc_column][vc_column width=”1/2″][vc_empty_space woodmart_hide_large=”0″ woodmart_hide_medium=”0″ woodmart_hide_small=”0″][/vc_column][/vc_row][vc_row][vc_column][vc_empty_space woodmart_hide_large=”0″ woodmart_hide_medium=”0″ woodmart_hide_small=”0″][vc_separator color=”custom” css=”” accent_color=”#790101″ wd_hide_on_desktop=”no” wd_hide_on_tablet=”no” wd_hide_on_mobile=”no”][vc_empty_space woodmart_hide_large=”0″ woodmart_hide_medium=”0″ woodmart_hide_small=”0″][/vc_column][/vc_row]
URL:https://conservatoriorovigo.it/evento/il-matrimonio-segreto-esibizione-degli-allievi-di-canto/
LOCATION:Tempio della Beata Vergine del Soccorso “La Rotonda”\, Piazza XX Settembre 37\, Rovigo\, Veneto\, 45100\, Italy
CATEGORIES:Concerti
ATTACH;FMTTYPE=image/png:https://conservatoriorovigo.it/wp-content/uploads/2025/05/Post-IG-Matrimonio-Segreto-04-giugno-2025.png
END:VEVENT
BEGIN:VEVENT
DTSTART;TZID=Europe/Paris:20250510T210000
DTEND;TZID=Europe/Paris:20250510T230000
DTSTAMP:20260416T160652
CREATED:20250728T072021Z
LAST-MODIFIED:20250728T072021Z
UID:10000053-1746910800-1746918000@conservatoriorovigo.it
SUMMARY:FESTIVAL BIBLICO 2025 – Cantate al Signore un Canto Nuovo
DESCRIPTION:[vc_row][vc_column][vc_empty_space woodmart_hide_large=”0″ woodmart_hide_medium=”0″ woodmart_hide_small=”0″][vc_separator color=”custom” css=”” accent_color=”#790101″ wd_hide_on_desktop=”no” wd_hide_on_tablet=”no” wd_hide_on_mobile=”no”][/vc_column][/vc_row][vc_row][vc_column width=”1/2″]		\n			\n\nFESTIVAL BIBLICO \n𝐂𝐨𝐧𝐜𝐞𝐫𝐭𝐨 – 𝐂𝐀𝐍𝐓𝐀𝐓𝐄 𝐀𝐋 𝐒𝐈𝐆𝐍𝐎𝐑𝐄 𝐔𝐍 𝐂𝐀𝐍𝐓𝐎 𝐍𝐔𝐎𝐕𝐎\n𝐈 𝐬𝐚𝐥𝐦𝐢\, 𝐯𝐨𝐜𝐞 𝐢𝐧𝐟𝐢𝐧𝐢𝐭𝐚 𝐝𝐢 𝐬𝐩𝐞𝐫𝐚𝐧𝐳𝐚 \nSABATO 10 MAGGIO 2025 – ore 21:00\nChiesa della Rotonda – Rovigo \nCon Orchestra Fiati Conservatorio “F. Venezze” direttore M° Stefano Romani\, Coro “Melos” direttore M° Roberto Spremulli \nSi ringrazia: Fondazione Cassa di Risparmio di Padova e Rovigo \n\n\n		\n		[/vc_column][vc_column width=”1/2″][vc_empty_space woodmart_hide_large=”0″ woodmart_hide_medium=”0″ woodmart_hide_small=”0″][/vc_column][/vc_row][vc_row][vc_column][vc_empty_space woodmart_hide_large=”0″ woodmart_hide_medium=”0″ woodmart_hide_small=”0″][vc_separator color=”custom” css=”” accent_color=”#790101″ wd_hide_on_desktop=”no” wd_hide_on_tablet=”no” wd_hide_on_mobile=”no”][vc_empty_space woodmart_hide_large=”0″ woodmart_hide_medium=”0″ woodmart_hide_small=”0″][/vc_column][/vc_row]
URL:https://conservatoriorovigo.it/evento/festival-biblico-2025-cantate-al-signore-un-canto-nuovo/
LOCATION:Tempio della Beata Vergine del Soccorso “La Rotonda”\, Piazza XX Settembre 37\, Rovigo\, Veneto\, 45100\, Italy
CATEGORIES:Concerti
ATTACH;FMTTYPE=image/jpeg:https://conservatoriorovigo.it/wp-content/uploads/2025/06/496769162_1221226893126399_5404063700483867128_n.jpg
END:VEVENT
BEGIN:VEVENT
DTSTART;TZID=Europe/Paris:20250504T163000
DTEND;TZID=Europe/Paris:20250504T210000
DTSTAMP:20260416T160652
CREATED:20250725T090417Z
LAST-MODIFIED:20250725T090417Z
UID:10000041-1746376200-1746392400@conservatoriorovigo.it
SUMMARY:𝐌𝐄𝐌𝐁𝐑𝐀 𝐉𝐄𝐒𝐔 𝐍𝐎𝐒𝐓𝐑𝐈 - Maggio Rodigino 2025
DESCRIPTION:[vc_row][vc_column][vc_empty_space woodmart_hide_large=”0″ woodmart_hide_medium=”0″ woodmart_hide_small=”0″][vc_separator color=”custom” css=”” accent_color=”#790101″ wd_hide_on_desktop=”no” wd_hide_on_tablet=”no” wd_hide_on_mobile=”no”][/vc_column][/vc_row][vc_row][vc_column width=”1/2″]		\n			\n\n\n\n𝐌𝐄𝐌𝐁𝐑𝐀 𝐉𝐄𝐒𝐔 𝐍𝐎𝐒𝐓𝐑𝐈\n\n\n\nDOMENICA 4 MAGGIO\nore 16:30\nTempio “La Rotonda”\, Rovigo \nClassi di Canto Rinascimentale e Barocco\, Violino Barocco\, Clavicembalo e tastiere storiche\, Musica d’Insieme per voci e strumenti antichi \n🎟️INGRESSO GRATUITO senza prenotazione fino ad esaurimento posti \nMaestro concertatore – M° Vittorio Zanon \n\n\n\n		\n		[/vc_column][vc_column width=”1/2″][vc_empty_space woodmart_hide_large=”0″ woodmart_hide_medium=”0″ woodmart_hide_small=”0″]		\n							\n			\n			\n							\n					\n		[/vc_column][/vc_row][vc_row][vc_column][vc_empty_space woodmart_hide_large=”0″ woodmart_hide_medium=”0″ woodmart_hide_small=”0″][vc_separator color=”custom” css=”” accent_color=”#790101″ wd_hide_on_desktop=”no” wd_hide_on_tablet=”no” wd_hide_on_mobile=”no”][vc_empty_space woodmart_hide_large=”0″ woodmart_hide_medium=”0″ woodmart_hide_small=”0″][/vc_column][/vc_row]
URL:https://conservatoriorovigo.it/evento/%f0%9d%90%8c%f0%9d%90%84%f0%9d%90%8c%f0%9d%90%81%f0%9d%90%91%f0%9d%90%80-%f0%9d%90%89%f0%9d%90%84%f0%9d%90%92%f0%9d%90%94-%f0%9d%90%8d%f0%9d%90%8e%f0%9d%90%92%f0%9d%90%93%f0%9d%90%91%f0%9d%90%88-mag/
LOCATION:Tempio della Beata Vergine del Soccorso “La Rotonda”\, Piazza XX Settembre 37\, Rovigo\, Veneto\, 45100\, Italy
CATEGORIES:Concerti
ATTACH;FMTTYPE=image/png:https://conservatoriorovigo.it/wp-content/uploads/2025/04/02_Post-IG-Membra-Jesu-nostri-di-Buxtehude-1-scaled.png
END:VEVENT
END:VCALENDAR